BEGIN:VCALENDAR
VERSION:2.0
PRODID:-//Shantykoor Voor Anker Veenendaal - ECPv6.15.11//NONSGML v1.0//EN
CALSCALE:GREGORIAN
METHOD:PUBLISH
X-WR-CALNAME:Shantykoor Voor Anker Veenendaal
X-ORIGINAL-URL:https://www.shantykoor-vooranker.nl
X-WR-CALDESC:Evenementen voor Shantykoor Voor Anker Veenendaal
REFRESH-INTERVAL;VALUE=DURATION:PT1H
X-Robots-Tag:noindex
X-PUBLISHED-TTL:PT1H
BEGIN:VTIMEZONE
TZID:UTC
BEGIN:STANDARD
TZOFFSETFROM:+0000
TZOFFSETTO:+0000
TZNAME:UTC
DTSTART:20250101T000000
END:STANDARD
END:VTIMEZONE
BEGIN:VEVENT
DTSTART;VALUE=DATE:20260530
DTEND;VALUE=DATE:20260531
DTSTAMP:20260419T182739
CREATED:20260128T072731Z
LAST-MODIFIED:20260330T041302Z
UID:2918-1780099200-1780185599@www.shantykoor-vooranker.nl
SUMMARY:Optreden tijdens "Dordt in Stoom"\, dd 30 mei 2026.
DESCRIPTION:
URL:https://www.shantykoor-vooranker.nl/evenement/optreden-tijdens-dordt-in-stoom-dd-30-mei-2026/
CATEGORIES:Openbaar
END:VEVENT
END:VCALENDAR