BEGIN:VCALENDAR
VERSION:2.0
PRODID:-//Shantykoor Voor Anker Veenendaal - ECPv6.15.11//NONSGML v1.0//EN
CALSCALE:GREGORIAN
METHOD:PUBLISH
X-WR-CALNAME:Shantykoor Voor Anker Veenendaal
X-ORIGINAL-URL:https://www.shantykoor-vooranker.nl
X-WR-CALDESC:Evenementen voor Shantykoor Voor Anker Veenendaal
REFRESH-INTERVAL;VALUE=DURATION:PT1H
X-Robots-Tag:noindex
X-PUBLISHED-TTL:PT1H
BEGIN:VTIMEZONE
TZID:UTC
BEGIN:STANDARD
TZOFFSETFROM:+0000
TZOFFSETTO:+0000
TZNAME:UTC
DTSTART:20240101T000000
END:STANDARD
END:VTIMEZONE
BEGIN:VEVENT
DTSTART;TZID=UTC:20251011T200000
DTEND;TZID=UTC:20251011T233000
DTSTAMP:20260420T021954
CREATED:20250915T130717Z
LAST-MODIFIED:20250915T130717Z
UID:2743-1760212800-1760225400@www.shantykoor-vooranker.nl
SUMMARY:Optreden dd. 11 oktober 2025 in Elst (Utr) bij het Bestegoed Bokfestival
DESCRIPTION:
URL:https://www.shantykoor-vooranker.nl/evenement/optreden-dd-11-oktober-2025-in-elst-utr-bij-het-bestegoed-bokfestival/
CATEGORIES:Openbaar
END:VEVENT
END:VCALENDAR