BEGIN:VCALENDAR
VERSION:2.0
PRODID:-//Shantykoor Voor Anker Veenendaal - ECPv6.15.11//NONSGML v1.0//EN
CALSCALE:GREGORIAN
METHOD:PUBLISH
X-ORIGINAL-URL:https://www.shantykoor-vooranker.nl
X-WR-CALDESC:Evenementen voor Shantykoor Voor Anker Veenendaal
REFRESH-INTERVAL;VALUE=DURATION:PT1H
X-Robots-Tag:noindex
X-PUBLISHED-TTL:PT1H
BEGIN:VTIMEZONE
TZID:UTC
BEGIN:STANDARD
TZOFFSETFROM:+0000
TZOFFSETTO:+0000
TZNAME:UTC
DTSTART:20240101T000000
END:STANDARD
END:VTIMEZONE
BEGIN:VEVENT
DTSTART;TZID=UTC:20250913T110000
DTEND;TZID=UTC:20250913T153000
DTSTAMP:20260420T045356
CREATED:20250722T155857Z
LAST-MODIFIED:20250722T163501Z
UID:2693-1757761200-1757777400@www.shantykoor-vooranker.nl
SUMMARY:Optreden bij Molen De Vriendschap in Veenendaal\, dd 13 september 2025.
DESCRIPTION:
URL:https://www.shantykoor-vooranker.nl/evenement/optreden-bij-molen-de-vriendschap-in-veenendaal-dd-13-september-2025-13/
CATEGORIES:Openbaar
END:VEVENT
END:VCALENDAR