BEGIN:VCALENDAR
VERSION:2.0
PRODID:-//Shantykoor Voor Anker Veenendaal - ECPv6.15.11//NONSGML v1.0//EN
CALSCALE:GREGORIAN
METHOD:PUBLISH
X-WR-CALNAME:Shantykoor Voor Anker Veenendaal
X-ORIGINAL-URL:https://www.shantykoor-vooranker.nl
X-WR-CALDESC:Evenementen voor Shantykoor Voor Anker Veenendaal
REFRESH-INTERVAL;VALUE=DURATION:PT1H
X-Robots-Tag:noindex
X-PUBLISHED-TTL:PT1H
BEGIN:VTIMEZONE
TZID:UTC
BEGIN:STANDARD
TZOFFSETFROM:+0000
TZOFFSETTO:+0000
TZNAME:UTC
DTSTART:20230101T000000
END:STANDARD
END:VTIMEZONE
BEGIN:VEVENT
DTSTART;TZID=UTC:20240907T130000
DTEND;TZID=UTC:20240907T173000
DTSTAMP:20260425T033723
CREATED:20240131T184031Z
LAST-MODIFIED:20240902T045612Z
UID:1870-1725714000-1725730200@www.shantykoor-vooranker.nl
SUMMARY:Optreden Festival Woudenberg\, dd 7 september 2024.
DESCRIPTION:
URL:https://www.shantykoor-vooranker.nl/evenement/optreden-festival-woudenberg-dd-7-september-2024/
CATEGORIES:Openbaar
END:VEVENT
BEGIN:VEVENT
DTSTART;TZID=UTC:20240914T120000
DTEND;TZID=UTC:20240914T130000
DTSTAMP:20260425T033723
CREATED:20240426T125320Z
LAST-MODIFIED:20240826T165044Z
UID:1958-1726315200-1726318800@www.shantykoor-vooranker.nl
SUMMARY:Optreden bij Molen De Vriendschap (Nieuweweg 109 Veenendaal)  tijdens de Open Monumentendag\, dd 14 september 2024
DESCRIPTION:𝗕𝗘𝗪𝗢𝗡𝗗𝗘𝗥 𝗧𝗜𝗝𝗗𝗘𝗡𝗦 𝗟𝗔𝗠𝗣𝗘𝗚𝗜𝗘𝗧𝗘𝗥𝗦𝗗𝗔𝗚𝗘𝗡 🤩✨Deze #optredens vinden overdag plaats op zaterdag 14 september.\n𝐒𝐩𝐞𝐭𝐭𝐞𝐫𝐞𝐧𝐝𝐞 𝐚𝐜𝐭𝐬\nLaat je versteld staan door alle fantastische Veense groepen die op verschillende locaties optreden tijdens de Lampegietersdagen! Van musical tot slagwerk en van koor tot heel veel dans…\nBekijk de afbeeldingen voor de line up van alle deelnemende artiesten. \n📍 𝗟𝗼𝗰𝗮𝘁𝗶𝗲𝘀: 𝗞𝗲𝗲𝘀 𝗦𝘁𝗶𝗽𝗽𝗹𝗲𝗶𝗻\, 𝗦𝗽𝗲𝗰𝘁𝗿𝘂𝗺\, 𝗗𝗲 𝗖𝘂𝗹𝘁𝘂𝘂𝗿𝗳𝗮𝗯𝗿𝗶𝗲𝗸\, 𝗠𝗮𝗿𝗸𝘁\, 𝗠𝗼𝗹𝗲𝗻 𝗗𝗲 𝗩𝗿𝗶𝗲𝗻𝗱𝘀𝗰𝗵𝗮𝗽\n📅 𝗗𝗮𝘁𝘂𝗺 + 𝘁𝗶𝗷𝗱: 𝟭𝟒 𝘀𝗲𝗽𝘁𝗲𝗺𝗯𝗲𝗿\, 𝟭𝟬.𝟬𝟬-𝟭𝟲.𝟬𝟬 𝘂𝘂𝗿 \nGa naar www.lampegietersdagen.nl voor het volledige\, bomvolle programma. \n#lampegietersdagen #veenendaal #ditisveenendaal @Muziekschool ‘de Muzen’ @Bibliotheek Veenendaal @Vlow0318 @Molen de Vriendschap Veenendaal @Musical academie Rezonanz @V’Allure Vrouwenkoor @Buurthuis DeDriehoek @Dance Studio Amain @Shantykoor Voor Anker @Kinder- en tienerkoor Jedaja @Harmonie Caecilia Veenendaal @MAYA
URL:https://www.shantykoor-vooranker.nl/evenement/optreden-open-monumentendag-veenendaal-dd-14-september-2024/
CATEGORIES:Openbaar
END:VEVENT
END:VCALENDAR