BEGIN:VCALENDAR
VERSION:2.0
PRODID:-//Shantykoor Voor Anker Veenendaal - ECPv6.15.11//NONSGML v1.0//EN
CALSCALE:GREGORIAN
METHOD:PUBLISH
X-ORIGINAL-URL:https://www.shantykoor-vooranker.nl
X-WR-CALDESC:Evenementen voor Shantykoor Voor Anker Veenendaal
REFRESH-INTERVAL;VALUE=DURATION:PT1H
X-Robots-Tag:noindex
X-PUBLISHED-TTL:PT1H
BEGIN:VTIMEZONE
TZID:UTC
BEGIN:STANDARD
TZOFFSETFROM:+0000
TZOFFSETTO:+0000
TZNAME:UTC
DTSTART:20230101T000000
END:STANDARD
END:VTIMEZONE
BEGIN:VEVENT
DTSTART;TZID=UTC:20241019T190000
DTEND;TZID=UTC:20241019T190000
DTSTAMP:20260425T000721
CREATED:20240830T174539Z
LAST-MODIFIED:20240830T174539Z
UID:2116-1729364400-1729364400@www.shantykoor-vooranker.nl
SUMMARY:Optreden Darthuizen\, Leersum\, dd 19 oktober 2024 dd
DESCRIPTION:
URL:https://www.shantykoor-vooranker.nl/evenement/optreden-darthuizen-leersum-dd-19-oktober-2024-dd/
CATEGORIES:Besloten
END:VEVENT
BEGIN:VEVENT
DTSTART;TZID=UTC:20241012T140000
DTEND;TZID=UTC:20241012T170000
DTSTAMP:20260425T000721
CREATED:20240215T185317Z
LAST-MODIFIED:20241012T173943Z
UID:1923-1728741600-1728752400@www.shantykoor-vooranker.nl
SUMMARY:Opgetreden in Wageningen\, speeltuin Tuindorp\, dd 12 oktober 2024
DESCRIPTION:Een seniorenmiddag gehad met mooie zeemansliederen en shanty`s\, gezongen door shantykoor “voor Anker” uit Veenendaal. Zij staan garant voor een middag vol shanty`s en zeemansliederen. Mee-deinen\, neuriën\, zingen of dansen: het mag allemaal.\n\nDeze dag zongen ze in Tuindorp.
URL:https://www.shantykoor-vooranker.nl/evenement/optreden-in-wageningen-speeltuin-tuindorp-dd-12-oktober-2024/
CATEGORIES:Besloten
END:VEVENT
BEGIN:VEVENT
DTSTART;TZID=UTC:20241005T130000
DTEND;TZID=UTC:20241005T170000
DTSTAMP:20260425T000721
CREATED:20240830T174022Z
LAST-MODIFIED:20240830T174927Z
UID:2114-1728133200-1728147600@www.shantykoor-vooranker.nl
SUMMARY:Optreden in 't Veerhuis\, Opheusden\, dd 5 oktober 2024
DESCRIPTION:
URL:https://www.shantykoor-vooranker.nl/evenement/optreden-in-t-veerhuis-opheusden/
CATEGORIES:Besloten
END:VEVENT
BEGIN:VEVENT
DTSTART;TZID=UTC:20240926T200000
DTEND;TZID=UTC:20240926T220000
DTSTAMP:20260425T000721
CREATED:20240904T135625Z
LAST-MODIFIED:20240904T135743Z
UID:2139-1727380800-1727388000@www.shantykoor-vooranker.nl
SUMMARY:Optreden in Lunteren\, Hotel Bosgoed\, dd 26 september 2024
DESCRIPTION:
URL:https://www.shantykoor-vooranker.nl/evenement/optreden-in-lunteren-hotel-bosgoed-dd-26-september-2024/
CATEGORIES:Besloten
END:VEVENT
BEGIN:VEVENT
DTSTART;TZID=UTC:20240806T200000
DTEND;TZID=UTC:20240806T220000
DTSTAMP:20260425T000721
CREATED:20240309T163737Z
LAST-MODIFIED:20240807T064228Z
UID:1931-1722974400-1722981600@www.shantykoor-vooranker.nl
SUMMARY:Optreden in Hotel Bosgoed\, Lunteren\, dd 6 augustus 2024
DESCRIPTION:
URL:https://www.shantykoor-vooranker.nl/evenement/optreden-in-hotel-bosgoed-lunteren-dd-6-augustus-2024/
CATEGORIES:Besloten
END:VEVENT
END:VCALENDAR