BEGIN:VCALENDAR
VERSION:2.0
PRODID:-//Shantykoor Voor Anker Veenendaal - ECPv6.15.11//NONSGML v1.0//EN
CALSCALE:GREGORIAN
METHOD:PUBLISH
X-ORIGINAL-URL:https://www.shantykoor-vooranker.nl
X-WR-CALDESC:Evenementen voor Shantykoor Voor Anker Veenendaal
REFRESH-INTERVAL;VALUE=DURATION:PT1H
X-Robots-Tag:noindex
X-PUBLISHED-TTL:PT1H
BEGIN:VTIMEZONE
TZID:UTC
BEGIN:STANDARD
TZOFFSETFROM:+0000
TZOFFSETTO:+0000
TZNAME:UTC
DTSTART:20240101T000000
END:STANDARD
END:VTIMEZONE
BEGIN:VEVENT
DTSTART;TZID=UTC:20251002T200000
DTEND;TZID=UTC:20251002T220000
DTSTAMP:20260425T110927
CREATED:20250318T120728Z
LAST-MODIFIED:20250318T120805Z
UID:2494-1759435200-1759442400@www.shantykoor-vooranker.nl
SUMMARY:Optreden in Hotel Bosgoed\, Lunteren\,  dd. 2 oktober 2025.
DESCRIPTION:
URL:https://www.shantykoor-vooranker.nl/evenement/optreden-in-hotel-bosgoed-lunteren-dd-2-oktober-2025/
CATEGORIES:Besloten
END:VEVENT
BEGIN:VEVENT
DTSTART;TZID=UTC:20251009T190000
DTEND;TZID=UTC:20251009T210000
DTSTAMP:20260425T110927
CREATED:20251005T095021Z
LAST-MODIFIED:20251005T095329Z
UID:2777-1760036400-1760043600@www.shantykoor-vooranker.nl
SUMMARY:9 oktober 2025 zullen wij een optreden verzorgen tijdens de slotavond van Rabo Club Support\, locatie Akoesticum in Ede
DESCRIPTION:
URL:https://www.shantykoor-vooranker.nl/evenement/9-oktober-2025-zullen-wij-een-optreden-verzorgen-tijdens-de-slotavond-van-rabo-club-support/
CATEGORIES:Besloten
END:VEVENT
BEGIN:VEVENT
DTSTART;TZID=UTC:20251105T200000
DTEND;TZID=UTC:20251105T220000
DTSTAMP:20260425T110927
CREATED:20250113T140634Z
LAST-MODIFIED:20250307T103320Z
UID:2407-1762372800-1762380000@www.shantykoor-vooranker.nl
SUMMARY:Optreden in Hotel Bosgoed\, Lunteren\,  dd. 5 november 2025.
DESCRIPTION:
URL:https://www.shantykoor-vooranker.nl/evenement/optreden-hotel-bosgoed-in-lunteren-dd-5-november-2025/
CATEGORIES:Besloten
END:VEVENT
BEGIN:VEVENT
DTSTART;TZID=UTC:20251122T200000
DTEND;TZID=UTC:20251122T220000
DTSTAMP:20260425T110927
CREATED:20250331T133445Z
LAST-MODIFIED:20250331T133553Z
UID:2562-1763841600-1763848800@www.shantykoor-vooranker.nl
SUMMARY:Optreden in Rhenen\, locatie Rhenendael\, dd. 22 november 2025.
DESCRIPTION:
URL:https://www.shantykoor-vooranker.nl/evenement/optreden-in-rhenen-locatie-rhenendae-dd-22-november-2025/
CATEGORIES:Besloten
END:VEVENT
BEGIN:VEVENT
DTSTART;TZID=UTC:20251218T143000
DTEND;TZID=UTC:20251218T170000
DTSTAMP:20260425T110927
CREATED:20251118T062847Z
LAST-MODIFIED:20251118T063037Z
UID:2877-1766068200-1766077200@www.shantykoor-vooranker.nl
SUMMARY:Optreden in Hotel Bosgoed\, Lunteren\, dd 18 december 2025.
DESCRIPTION:
URL:https://www.shantykoor-vooranker.nl/evenement/optreden-in-hotel-bosgoed-in-lunteren-dd-18-december-2025/
CATEGORIES:Besloten
END:VEVENT
BEGIN:VEVENT
DTSTART;TZID=UTC:20260303T143000
DTEND;TZID=UTC:20260303T163000
DTSTAMP:20260425T110927
CREATED:20251212T130827Z
LAST-MODIFIED:20251212T130827Z
UID:2886-1772548200-1772555400@www.shantykoor-vooranker.nl
SUMMARY:Optreden in Hotel Bosgoed\, Lunteren\, dd. 3 maart 2026
DESCRIPTION:
URL:https://www.shantykoor-vooranker.nl/evenement/optreden-in-hotel-bosgoed-lunteren-dd-3-maart-2026/
CATEGORIES:Besloten
END:VEVENT
BEGIN:VEVENT
DTSTART;TZID=UTC:20260321T200000
DTEND;TZID=UTC:20260321T220000
DTSTAMP:20260425T110927
CREATED:20260321T070116Z
LAST-MODIFIED:20260321T070116Z
UID:2951-1774123200-1774130400@www.shantykoor-vooranker.nl
SUMMARY:Op 21 maart 2026 zingen we ter ere van een 60 jarig huwelijkspaar.
DESCRIPTION:
URL:https://www.shantykoor-vooranker.nl/evenement/op-21-maart-2026-zingen-we-ter-ere-van-een-60-jarig-huwelijkspaar/
CATEGORIES:Besloten
END:VEVENT
BEGIN:VEVENT
DTSTART;TZID=UTC:20260401T200000
DTEND;TZID=UTC:20260401T220000
DTSTAMP:20260425T110927
CREATED:20251212T131125Z
LAST-MODIFIED:20251212T131125Z
UID:2888-1775073600-1775080800@www.shantykoor-vooranker.nl
SUMMARY:Optreden in Hotel Bosgoed\, Lunteren\, dd. 1 april 2026
DESCRIPTION:
URL:https://www.shantykoor-vooranker.nl/evenement/optreden-in-hotel-bosgoed-lunteren-dd-1-april-2026/
CATEGORIES:Besloten
END:VEVENT
BEGIN:VEVENT
DTSTART;TZID=UTC:20260606T000000
DTEND;TZID=UTC:20260606T000000
DTSTAMP:20260425T110927
CREATED:20260225T211912Z
LAST-MODIFIED:20260225T211931Z
UID:2935-1780704000-1780704000@www.shantykoor-vooranker.nl
SUMMARY:Optreden voor de bewoners van De Wending/ Stichting Philadelphia Zorg\, dd  6 juni 2026.
DESCRIPTION:
URL:https://www.shantykoor-vooranker.nl/evenement/optreden-voor-de-bewoners-van-de-wending-stichting-philadelphia-zorg-dd-6-juni-2026/
CATEGORIES:Besloten
END:VEVENT
END:VCALENDAR